Workbook

Sheet 작성요령
A2: ○ 작성요령
A3: 1. 반드시 지정된(엑셀) 서식에 반드시 작성하고, 글씨체, 형식(수정,삽입,삭제), 수식 등은 변경하지 않습니다.
A5: 2. 입력할 시트는 순위부 (연두색 탭 시트) 입니다.
A7: 3. 순위조건( 붉은색 시트 ) 수정 및 변경 절대 불가.
A9: 4. 신청서, 장애인증명서, 주민등록 등.초본, 무주택기간 증빙서류 등에 대한 검토, 확인 후 순위부 작성.
A10: (향후 순위 변동에 따른 피해자 발생 최소화)

Sheet 순위부
A1: 인천시 장애인 공동주택 특별공급 알선 우선 순위부
A2: [신청지역: 인천 가정지구 5BL 호반베르디움 (분양)] | R2: * 배점, 종합점수,순위의 수식 절대 변경 불가
A3: 연번 | B3: 군·구명 | C3: 신청 형별(㎡) | D3: 성명 | E3: 주 민 등록번호 | F3: 주 소 (도로명주소) | G3: 연락처 | H3: 장애등록일 | I3: 인천시 전입일자 (광역시 출범: 1995.03.01일 기준 | J3: 혼인 유무 | K3: 세대원 (성명 주민등록번호 관계) | L3: 장애 등급 (1~6) | M3: 무주택 기 간 (0~10) | N3: 세대원중 장애인 유무 (본인미포함) (0~2) | O3: 세대원 구성 (1~5) | P3: 65세이상 장애인 유무 (본인미포함) (0, 유) | Q3: 인천시 연속 거주 기간 (0~5) | R3: 장애 등급 | S3: 무 주 택 기 간 | T3: 세대원중 장애인 유무 (본인 미포함) | U3: 세 대 원 구 성 | V3: 65세이상 장애인 유무 (본인 미포함) | W3: 인천시 연속 거주 기간 | X3: 종합 점수 | Y3: 순위
A4: 예시) | B4: ○○구 | C4: 74A | D4: □□□ | E4: 111111-1111111 | F4: 인천광역시 ○○구 ☆☆☆로 107, ▲동 ♡♡♡호 (◆◆동, ▷▷아파트) | G4: 010-1234-5678 070-2345-6789 | H4: 2005.05.25 | I4: 2002.12.23 | J4: 기혼(동일세대) | K4: 갑순이 333333-3333333 처 | L4: 3 | M4: 5 | N4: 0 | O4: 2 | P4: 0 | Q4: 5 | R4: =VLOOKUP(L4,[1]순위조건!$B$3:$C$9,2,0) -> 16 | S4: =VLOOKUP(M4,[1]순위조건!$B$18:$C$26,2,1) -> 5 | T4: =VLOOKUP(N4,[1]순위조건!$B$28:$C$31,2,1) -> 0 | U4: =VLOOKUP(O4,[1]순위조건!$B$11:$C$16,2,0) -> 8 | V4: =IF(P4="유",5,0) -> 0 | W4: =VLOOKUP(Q4,[1]순위조건!$B$33:$C$39,2,0) -> 15 | X4: =SUM(R4:W4) -> 44 | Y4: 2 | AA4: 선택
A5: 예시) | B5: ○○구 | C5: 74A | D5: ☆☆☆ | E5: 222222-2222222 | F5: 인천광역시 ○○구 ☆☆로 28, △동 ▽▽호 (■■동, ◁◁아파트) | G5: 010-2345-6789 | H5: 2012.06.27 | I5: 2004.09.24 | J5: 미혼 | K5: 홍길동 444444-4444444 조부 홍국영 555555-5555555 부 김우아 666666-6666666 모 | L5: 2 | M5: 3 | N5: 1 | O5: 4 | P5: 유 | Q5: 5 | R5: =VLOOKUP(L5,[1]순위조건!$B$3:$C$9,2,0) -> 18 | S5: =VLOOKUP(M5,[1]순위조건!$B$18:$C$26,2,1) -> 2 | T5: =VLOOKUP(N5,[1]순위조건!$B$28:$C$31,2,1) -> 5 | U5: =VLOOKUP(O5,[1]순위조건!$B$11:$C$16,2,0) -> 16 | V5: =IF(P5="유",5,0) -> 5 | W5: =VLOOKUP(Q5,[1]순위조건!$B$33:$C$39,2,0) -> 15 | X5: =SUM(R5:W5) -> 61 | Y5: 1 | AA5: 미혼
A6: 1 | J6: 선택 | R6: =VLOOKUP(L6,[1]순위조건!$B$3:$C$9,2,0) -> #N/A | S6: =VLOOKUP(M6,[1]순위조건!$B$18:$C$26,2,1) -> 0 | T6: =VLOOKUP(N6,[1]순위조건!$B$28:$C$31,2,1) -> 0 | U6: =VLOOKUP(O6,[1]순위조건!$B$11:$C$16,2,0) -> #N/A | V6: =IF(P6="유",5,0) -> 0 | W6: =VLOOKUP(Q6,[1]순위조건!$B$33:$C$39,2,0) -> 0 | X6: =SUM(R6:W6) -> #N/A | Y6: =RANK(X6,$X$6:$X$15) -> #N/A | AA6: 기혼(동일세대)
A7: 2 | J7: 선택 | R7: =VLOOKUP(L7,[1]순위조건!$B$3:$C$9,2,0) -> #N/A | S7: =VLOOKUP(M7,[1]순위조건!$B$18:$C$26,2,1) -> 0 | T7: =VLOOKUP(N7,[1]순위조건!$B$28:$C$31,2,1) -> 0 | U7: =VLOOKUP(O7,[1]순위조건!$B$11:$C$16,2,0) -> #N/A | V7: =IF(P7="유",5,0) -> 0 | W7: =VLOOKUP(Q7,[1]순위조건!$B$33:$C$39,2,0) -> 0 | X7: =SUM(R7:W7) -> #N/A | Y7: =RANK(X7,$X$6:$X$15) -> #N/A | AA7: 기혼(분리세대)
A8: 3 | J8: 선택 | R8: =VLOOKUP(L8,[1]순위조건!$B$3:$C$9,2,0) -> #N/A | S8: =VLOOKUP(M8,[1]순위조건!$B$18:$C$26,2,1) -> 0 | T8: =VLOOKUP(N8,[1]순위조건!$B$28:$C$31,2,1) -> 0 | U8: =VLOOKUP(O8,[1]순위조건!$B$11:$C$16,2,0) -> #N/A | V8: =IF(P8="유",5,0) -> 0 | W8: =VLOOKUP(Q8,[1]순위조건!$B$33:$C$39,2,0) -> 0 | X8: =SUM(R8:W8) -> #N/A | Y8: =RANK(X8,$X$6:$X$15) -> #N/A | AA8: 이혼
A9: 4 | J9: 선택 | R9: =VLOOKUP(L9,[1]순위조건!$B$3:$C$9,2,0) -> #N/A | S9: =VLOOKUP(M9,[1]순위조건!$B$18:$C$26,2,1) -> 0 | T9: =VLOOKUP(N9,[1]순위조건!$B$28:$C$31,2,1) -> 0 | U9: =VLOOKUP(O9,[1]순위조건!$B$11:$C$16,2,0) -> #N/A | V9: =IF(P9="유",5,0) -> 0 | W9: =VLOOKUP(Q9,[1]순위조건!$B$33:$C$39,2,0) -> 0 | X9: =SUM(R9:W9) -> #N/A | Y9: =RANK(X9,$X$6:$X$15) -> #N/A
A10: 5 | J10: 선택 | R10: =VLOOKUP(L10,[1]순위조건!$B$3:$C$9,2,0) -> #N/A | S10: =VLOOKUP(M10,[1]순위조건!$B$18:$C$26,2,1) -> 0 | T10: =VLOOKUP(N10,[1]순위조건!$B$28:$C$31,2,1) -> 0 | U10: =VLOOKUP(O10,[1]순위조건!$B$11:$C$16,2,0) -> #N/A | V10: =IF(P10="유",5,0) -> 0 | W10: =VLOOKUP(Q10,[1]순위조건!$B$33:$C$39,2,0) -> 0 | X10: =SUM(R10:W10) -> #N/A | Y10: =RANK(X10,$X$6:$X$15) -> #N/A | AA10: 선택
A11: 6 | J11: 선택 | R11: =VLOOKUP(L11,[1]순위조건!$B$3:$C$9,2,0) -> #N/A | S11: =VLOOKUP(M11,[1]순위조건!$B$18:$C$26,2,1) -> 0 | T11: =VLOOKUP(N11,[1]순위조건!$B$28:$C$31,2,1) -> 0 | U11: =VLOOKUP(O11,[1]순위조건!$B$11:$C$16,2,0) -> #N/A | V11: =IF(P11="유",5,0) -> 0 | W11: =VLOOKUP(Q11,[1]순위조건!$B$33:$C$39,2,0) -> 0 | X11: =SUM(R11:W11) -> #N/A | Y11: =RANK(X11,$X$6:$X$15) -> #N/A | AA11: O
A12: 7 | J12: 선택 | R12: =VLOOKUP(L12,[1]순위조건!$B$3:$C$9,2,0) -> #N/A | S12: =VLOOKUP(M12,[1]순위조건!$B$18:$C$26,2,1) -> 0 | T12: =VLOOKUP(N12,[1]순위조건!$B$28:$C$31,2,1) -> 0 | U12: =VLOOKUP(O12,[1]순위조건!$B$11:$C$16,2,0) -> #N/A | V12: =IF(P12="유",5,0) -> 0 | W12: =VLOOKUP(Q12,[1]순위조건!$B$33:$C$39,2,0) -> 0 | X12: =SUM(R12:W12) -> #N/A | Y12: =RANK(X12,$X$6:$X$15) -> #N/A | AA12: X
A13: 8 | J13: 선택 | R13: =VLOOKUP(L13,[1]순위조건!$B$3:$C$9,2,0) -> #N/A | S13: =VLOOKUP(M13,[1]순위조건!$B$18:$C$26,2,1) -> 0 | T13: =VLOOKUP(N13,[1]순위조건!$B$28:$C$31,2,1) -> 0 | U13: =VLOOKUP(O13,[1]순위조건!$B$11:$C$16,2,0) -> #N/A | V13: =IF(P13="유",5,0) -> 0 | W13: =VLOOKUP(Q13,[1]순위조건!$B$33:$C$39,2,0) -> 0 | X13: =SUM(R13:W13) -> #N/A | Y13: =RANK(X13,$X$6:$X$15) -> #N/A
A14: 9 | J14: 선택 | R14: =VLOOKUP(L14,[1]순위조건!$B$3:$C$9,2,0) -> #N/A | S14: =VLOOKUP(M14,[1]순위조건!$B$18:$C$26,2,1) -> 0 | T14: =VLOOKUP(N14,[1]순위조건!$B$28:$C$31,2,1) -> 0 | U14: =VLOOKUP(O14,[1]순위조건!$B$11:$C$16,2,0) -> #N/A | V14: =IF(P14="유",5,0) -> 0 | W14: =VLOOKUP(Q14,[1]순위조건!$B$33:$C$39,2,0) -> 0 | X14: =SUM(R14:W14) -> #N/A | Y14: =RANK(X14,$X$6:$X$15) -> #N/A
A15: 10 | J15: 선택 | R15: =VLOOKUP(L15,[1]순위조건!$B$3:$C$9,2,0) -> #N/A | S15: =VLOOKUP(M15,[1]순위조건!$B$18:$C$26,2,1) -> 0 | T15: =VLOOKUP(N15,[1]순위조건!$B$28:$C$31,2,1) -> 0 | U15: =VLOOKUP(O15,[1]순위조건!$B$11:$C$16,2,0) -> #N/A | V15: =IF(P15="유",5,0) -> 0 | W15: =VLOOKUP(Q15,[1]순위조건!$B$33:$C$39,2,0) -> 0 | X15: =SUM(R15:W15) -> #N/A | Y15: =RANK(X15,$X$6:$X$15) -> #N/A

Sheet 배점기준
B2: 장애등급 | C2: 점수
B3: 1 | C3: 20
B4: 2 | C4: 18
B5: 3 | C5: 16
B6: 4 | C6: 9
B7: 5 | C7: 7
B8: 6 | C8: 5
B10: 무주택기간 | C10: 점수
B11: 2 | C11: 2
B12: 4 | C12: 5
B13: 6 | C13: 10
B14: 8 | C14: 20
B15: 10 | C15: 30
B17: 세대원 중 장애인 유무 | C17: 점수
B18: 1 | C18: 5
B19: 2인이상 | C19: 10
B21: 세대원 구성 | C21: 점수
B22: 단독세대 | C22: 4
B23: 2 | C23: 8
B24: 3 | C24: 12
B25: 4 | C25: 16
B26: 5인이상 | C26: 20
B28: 65세이상인장애인유무 | C28: 점수
B29: 0 | C29: 0
B30: 유 | C30: 5
B32: 인천시 연속 거주지 기간 | C32: 점수
B33: 1년미만 | C33: 1
B34: 1 | C34: 3
B35: 2 | C35: 6
B36: 3 | C36: 9
B37: 4 | C37: 12
B38: 5년이상 | C38: 15
