Workbook

Sheet 갑지
A1: 【별지 제1호 서식】
A2: 총 사업비 산출 총괄표
A3: 현장명 : 인천검단신도시 AA17BL 공동주택 신축공사 | G3: (단위:천원)
A4: 구 분 | D4: 전 체 | E4: 감리대상(소방) | F4: 감리제외 | G4: 타법감리
A5: 총공사비 | B5: 순공사비 | C5: 토목공사 | D5: =을지!D9 -> 46844444 | E5: 0 | F5: 0 | G5: 14563944
C6: 건축공사 | D6: =을지!D10 -> 280951366 | E6: 0 | F6: 0 | G6: 105088539
C7: 기계설비공사 | D7: =을지!D11 -> 34013947 | E7: 0 | F7: 0 | G7: 8015307
C8: 전기공사 | D8: =을지!D12 -> 21266724 | E8: 0 | F8: 0 | G8: 9001562
C9: 정보통신공사 | D9: =을지!D13 -> 17039002 | E9: 0 | F9: 0 | G9: 1777006
C10: 소방설비공사 | D10: =을지!D8 -> 21266724 | E10: =을지!E8 -> 21266724 | F10: 0 | G10: 0
C11: 소 계 | D11: =SUM(D5:D10) -> 421382207 | E11: =SUM(E5:E10) -> 21266724 | F11: 0 | G11: =SUM(G5:G10) -> 138446358
B12: 일반관리비 | D12: =을지!D15 -> 25558503 | E12: =을지!E15 -> 1233046 | F12: =을지!F15 -> 0 | G12: =을지!G15 -> 24325457
B13: 이 윤 | D13: =을지!D16 -> 12818970 | E13: =을지!E16 -> 618439 | F13: =을지!F16 -> 0 | G13: =을지!G16 -> 12200531
B14: 소 계 | D14: =SUM(D11:D13) -> 459759680 | E14: =SUM(E11:E13) -> 23118209 | F14: =SUM(F11:F13) -> 0 | G14: =SUM(G11:G13) -> 174972346
A15: 간 접 비 | B15: 설 계 비 | D15: =F15 -> 4932342 | E15: 0 | F15: 4932342 | G15: 0
B16: 감 리 비 | D16: =F16 -> 11337982 | E16: 0 | F16: 11337982 | G16: 0
B17: 일반분양시설경비 | D17: =F17 -> 37152711 | E17: 0 | F17: 37152711 | G17: 0
B18: 분담금 및 부담금 | D18: =F18 -> 24405488 | E18: 0 | F18: 24405488 | G18: 0
B19: 보 상 비 | D19: =F19 -> 0 | E19: 0 | F19: 0 | G19: 0
B20: 기타 사업비성 경비 | D20: =F20 -> 84399433 | E20: 0 | F20: 84399433 | G20: 0
B21: 소 계 | D21: =SUM(D15:D20) -> 162227956 | E21: 0 | F21: =SUM(F15:F20) -> 162227956 | G21: 0
A22: 대 지 비 | D22: =F22 -> 377839830 | E22: 0 | F22: 377839830 | G22: 0
A23: 부가가치세 | D23: =F23 -> 18576355 | E23: 0 | F23: 18576355 | G23: 0
A24: 총사업비계 | D24: =D14+D21+D22+D23 -> 1018403821 | E24: =E14+E21+E22+E23 -> 23118209 | F24: =F14+F21+F22+F23 -> 558644141 | G24: =G14+G21+G22+G23 -> 174972346
A26: 주 : 1. 순공사비란 재료비, 노무비, 경비를 합한 금액임.
A27: 2. 일반관리비와 이윤에 대한 정의 및 산정방법은 ‘원가계산에 의한 예정가격작성준칙(회계예규)’에 따름
A28: 3. 부가가치세액의 정의와 산정방법은 ‘부가가치세법’에 따름
A29: 4. 간접비란 사업비중 총공사비를 제외한 설계비, 감리비, 분양시설경비등 사업비성 경비를 말하며,
A30: 세부품목은 다음과 같음.
A31: ● 일반분양시설경비 : 분양사무실 시공비, 운영비, 광고홍보비
A32: ● 분담금 및 부담금 : 인입분담금(가스, 전기, 수도, 지역난방), 진입도로, 학교용지부담금 등
A33: ● 보상비 : 민원처리 보상비
A34: ● 기타사업비성 경비 : 제세공과금, 측량수수료, 취득세, 등록세, 건물보존등기비 및 입주관리비, 감정평가수수료, 분양보증, 하자보증수수료등 기타 사업비성 경비
A35: ● 대지구입비, 대지구입관련금융비용 및 제세공과금

Sheet 을지
A1: 【별지 제2호 서식】
A2: 공종별 총 공사비 구성 현황표
A4: =갑지!A3 -> 현장명 : 인천검단신도시 AA17BL 공동주택 신축공사 | G4: (단위:천원)
A5: 구 분 | B5: 분 야 | C5: 공 종 | D5: 전 체 | E5: 감리대상(소방) | F5: 감리제외 | G5: 타법감리
A6: 순공사비 | B6: 소방설비 | C6: 소방기계설비공사 | D6: =E6 -> 16588045 | E6: 16588045 | F6: 0 | G6: 0
C7: 소방전기설비공사 | D7: =E7 -> 4678679 | E7: 4678679 | F7: 0 | G7: 0
C8: 소 계 | D8: =SUM(D6:D7) -> 21266724 | E8: =SUM(E6:E7) -> 21266724 | F8: =SUM(F6:F7) -> 0 | G8: =SUM(G6:G7) -> 0
B9: 토목 | D9: =G9 -> 46844444 | E9: 0 | F9: 0 | G9: 46844444
B10: 건축 | D10: =G10 -> 280951366 | G10: 280951366
B11: 기계설비 | D11: =G11 -> 34013947 | E11: 0 | F11: 0 | G11: 34013947
B12: 전기 | D12: =G12 -> 21266724 | E12: 0 | F12: 0 | G12: 21266724
B13: 정보통신 | D13: =G13 -> 17039002 | E13: 0 | F13: 0 | G13: 17039002
A14: 합 계 | D14: =D8+D9+D10+D11+D12+D13 -> 421382207 | E14: =E8+E9+E10+E11+E12+E13 -> 21266724 | F14: =F8+F9+F10+F11+F12+F13 -> 0 | G14: =G8+G9+G10+G11+G12+G13 -> 400115483
A15: 일반관리비 | D15: =E15+F15+G15 -> 25558503 | E15: 1233046 | F15: 0 | G15: 24325457
A16: 이 윤 | D16: =E16+F16+G16 -> 12818970 | E16: 618439 | F16: 0 | G16: 12200531
A17: 총공사비계 | D17: =SUM(D14:D16) -> 459759680 | E17: =SUM(E14:E16) -> 23118209 | F17: =SUM(F14:F16) -> 0 | G17: =SUM(G14:G16) -> 436641471 | H17: =SUM(E17:G17) -> 459759680

Sheet 예정공정표(소방)
A1: 예 정 공 정 표 (감리배치계획)
A2: □ 공사명 : 인천검단신도시 AA17BL 공동주택 신축공사
A3: □ 전체공사기간 : 2026. 12. 28. ~ 2030. 05. 27. (41개월)
A4: □ 전기공사기간 : 2027. 02. 28. ~ 2030. 05. 27. (39개월)
A5: 년도 | B5: 2026년 | C5: 2027년 | O5: 2028년 | AA5: 2029년 | AM5: 2030년 | AR5: 비 고
A6: 월 | B6: 12 | C6: 1 | D6: 2 | E6: 3 | F6: 4 | G6: 5 | H6: 6 | I6: 7 | J6: 8 | K6: 9 | L6: 10 | M6: 11 | N6: 12 | O6: 1 | P6: 2 | Q6: 3 | R6: 4 | S6: 5 | T6: 6 | U6: 7 | V6: 8 | W6: 9 | X6: 10 | Y6: 11 | Z6: 12 | AA6: 1 | AB6: 2 | AC6: 3 | AD6: 4 | AE6: 5 | AF6: 6 | AG6: 7 | AH6: 8 | AI6: 9 | AJ6: 10 | AK6: 11 | AL6: 12 | AM6: 1 | AN6: 2 | AO6: 3 | AP6: 4 | AQ6: 5
A7: 개월수 | B7: 0 | C7: =B7+1 -> 1 | D7: =C7+1 -> 2 | E7: =D7+1 -> 3 | F7: =E7+1 -> 4 | G7: =F7+1 -> 5 | H7: =G7+1 -> 6 | I7: =H7+1 -> 7 | J7: =I7+1 -> 8 | ... AO7: =AN7+1 -> 39 | AP7: 40 | AQ7: 41
A8: 전체공정 | AR8: 2026.12.28~ 2030.05.27 (41개월)
A9: 건축공사 | AR9: 2026.12.28~ 2030.05.27 (41개월)
A10: 구조체공사 | AR10: 2027.06.01~ 2029.04.30 (23개월)
A11: 토목공사 | AR11: 2026.12.28~ 2030.05.27 (41개월)
A12: 설비공사 | AR12: 2027.02.28~ 2030.05.27 (39개월)
A13: 소방공사 | AR13: 2027.02.28~ 2030.05.27 (39개월)
A14: 전기공사 | AR14: 2027.02.28~ 2030.05.27 (39개월)

Sheet 배치계획표 (2)
A3: ▣ 공 사 명 : 인천검단 AA1블록 공동주택 신축공사
A4: ▣ 착공 예정일 : 2019년 11월 01일
A5: ▣ 공 사 기 간 : 2019년 11월 01일 ~ 2022년 05월 31일 (31개월)
A7: 구분 | B7: 2019년 | H7: 2020년 | AR7: 2021년 | CB7: 2022년 | CQ7: 비고
B8: 11 | E8: 12 | H8: 1 | K8: =H8+1 -> 2 | N8: =K8+1 -> 3 | Q8: =N8+1 -> 4 | T8: =Q8+1 -> 5 | W8: =T8+1 -> 6 | Z8: =W8+1 -> 7 | AC8: =Z8+1 -> 8 | AF8: =AC8+1 -> 9 | AI8: =AF8+1 -> 10 | AL8: =AI8+1 -> 11 | AO8: =AL8+1 -> 12 | AR8: 1 | AU8: =AR8+1 -> 2 | AX8: =AU8+1 -> 3 | BA8: =AX8+1 -> 4 | BD8: =BA8+1 -> 5 | BG8: =BD8+1 -> 6 | BJ8: =BG8+1 -> 7 | BM8: =BJ8+1 -> 8 | BP8: =BM8+1 -> 9 | BS8: =BP8+1 -> 10 | BV8: =BS8+1 -> 11 | BY8: =BV8+1 -> 12 | CB8: 1 | CE8: =CB8+1 -> 2 | CH8: =CE8+1 -> 3 | CK8: =CH8+1 -> 4 | CN8: =CK8+1 -> 5
A9: 개월 | B9: 1 | E9: 2 | H9: 3 | K9: 4 | N9: 5 | Q9: 6 | T9: 7 | W9: 8 | Z9: 9 | AC9: 10 | AF9: 11 | AI9: 12 | AL9: 13 | AO9: 14 | AR9: 15 | AU9: 16 | AX9: 17 | BA9: 18 | BD9: 19 | BG9: 20 | BJ9: 21 | BM9: 22 | BP9: 23 | BS9: 24 | BV9: 25 | BY9: 26 | CB9: 27 | CE9: 28 | CH9: 29 | CK9: 30 | CN9: 31
A10: 전체공정 | CQ10: 31개월
A11: 건축공사 | CQ11: 31개월
A12: 구조체공사 | CQ12: 13개월
A13: 토목공사 | CQ13: 28개월
A14: 전기공사 | CQ14: 28개월
A15: 기계설비공사 | CQ15: 28개월
A16: 소방공사 | CQ16: 28개월
